Workbook

Sheet Anleitung
A1: Ackerschlagkartei – kostenlose Vorlage
A2: von agrarbüro24 · agrarbuero24.de
A4: So nutzen Sie die Vorlage
A5: 1. Im Blatt „Schläge“ jeden Schlag einmal mit Nummer und Fläche anlegen.
A6: 2. Maßnahmen in den Blättern „Düngung“, „Pflanzenschutz“, „Bodenbearbeitung & Ernte“ und „Grünland“ eintragen.
A7: Die Schlag-Nr. wählen Sie aus der Liste, die Fläche wird automatisch übernommen.
A8: 3. Das Blatt „Auswertung“ summiert die Nährstoffe je Schlag und für den Betrieb.
A9: Die Betriebssumme brauchen Sie für die Aufzeichnung bis 31. März des Folgejahres (§ 10 DüV).
A10: 4. Grün hinterlegte Zeilen sind Beispiele. Überschreiben oder löschen Sie sie.
A12: Gut zu wissen
A13: • Düngemaßnahmen spätestens 2 Tage nach der Ausbringung eintragen. Die Spalte „Eingetragen am“ wird rot, wenn mehr Zeit vergangen ist.
A14: • Für Pflanzenschutzmittel immer Zulassungsnummer und Anwender angeben. Ob ein Mittel zugelassen ist, prüft die Vorlage nicht.
... A19: Keine Lust auf Tabellen? Wir führen Ihre Schlagkartei digital: agrarbuero24.de/leistungen/schlagkartei

Sheet Auswertung
A1: Auswertung je Schlag
A2: Summen aus dem Blatt „Düngung“ (kg je ha und kg je Schlag) und Zahl der Pflanzenschutzmaßnahmen.
A4: Schlag-Nr. | B4: Schlagname | C4: Fläche (ha) | D4: Kultur | E4: N gesamt (kg/ha) | F4: NH₄-N (kg/ha) | G4: P₂O₅ (kg/ha) | H4: K₂O (kg/ha) | I4: N gesamt Schlag (kg) | J4: P₂O₅ Schlag (kg) | K4: PSM-Maßnahmen
A5: =IF('Schläge'!A6="","",'Schläge'!A6) | B5: =IF(A5="","",'Schläge'!B6) | C5: =IF(A5="","",'Schläge'!D6) | D5: =IF(A5="","",'Schläge'!F6) | E5: =IF(A5="","",SUMIF('Düngung'!$B$6:$B$205,A5,'Düngung'!$G$6:$G$205)) | F5: =IF(A5="","",SUMIF('Düngung'!$B$6:$B$205,A5,'Düngung'!$H$6:$H$205)) | G5: =IF(A5="","",SUMIF('Düngung'!$B$6:$B$205,A5,'Düngung'!$I$6:$I$205)) | H5: =IF(A5="","",SUMIF('Düngung'!$B$6:$B$205,A5,'Düngung'!$J$6:$J$205)) | I5: =IF(OR(A5="",C5=""),"",E5*C5) | J5: =IF(OR(A5="",C5=""),"",G5*C5) | K5: =IF(A5="","",COUNTIF('Pflanzenschutz'!$C$6:$C$205,A5))
A6: =IF('Schläge'!A7="","",'Schläge'!A7) | B6: =IF(A6="","",'Schläge'!B7) | C6: =IF(A6="","",'Schläge'!D7) | D6: =IF(A6="","",'Schläge'!F7) | E6: =IF(A6="","",SUMIF('Düngung'!$B$6:$B$205,A6,'Düngung'!$G$6:$G$205)) | F6: =IF(A6="","",SUMIF('Düngung'!$B$6:$B$205,A6,'Düngung'!$H$6:$H$205)) | G6: =IF(A6="","",SUMIF('Düngung'!$B$6:$B$205,A6,'Düngung'!$I$6:$I$205)) | H6: =IF(A6="","",SUMIF('Düngung'!$B$6:$B$205,A6,'Düngung'!$J$6:$J$205)) | I6: =IF(OR(A6="",C6=""),"",E6*C6) | J6: =IF(OR(A6="",C6=""),"",G6*C6) | K6: =IF(A6="","",COUNTIF('Pflanzenschutz'!$C$6:$C$205,A6))
A7: =IF('Schläge'!A8="","",'Schläge'!A8) | B7: =IF(A7="","",'Schläge'!B8) | C7: =IF(A7="","",'Schläge'!D8) | D7: =IF(A7="","",'Schläge'!F8) | E7: =IF(A7="","",SUMIF('Düngung'!$B$6:$B$205,A7,'Düngung'!$G$6:$G$205)) | F7: =IF(A7="","",SUMIF('Düngung'!$B$6:$B$205,A7,'Düngung'!$H$6:$H$205)) | G7: =IF(A7="","",SUMIF('Düngung'!$B$6:$B$205,A7,'Düngung'!$I$6:$I$205)) | H7: =IF(A7="","",SUMIF('Düngung'!$B$6:$B$205,A7,'Düngung'!$J$6:$J$205)) | I7: =IF(OR(A7="",C7=""),"",E7*C7) | J7: =IF(OR(A7="",C7=""),"",G7*C7) | K7: =IF(A7="","",COUNTIF('Pflanzenschutz'!$C$6:$C$205,A7))
A8: =IF('Schläge'!A9="","",'Schläge'!A9) | B8: =IF(A8="","",'Schläge'!B9) | C8: =IF(A8="","",'Schläge'!D9) | D8: =IF(A8="","",'Schläge'!F9) | E8: =IF(A8="","",SUMIF('Düngung'!$B$6:$B$205,A8,'Düngung'!$G$6:$G$205)) | F8: =IF(A8="","",SUMIF('Düngung'!$B$6:$B$205,A8,'Düngung'!$H$6:$H$205)) | G8: =IF(A8="","",SUMIF('Düngung'!$B$6:$B$205,A8,'Düngung'!$I$6:$I$205)) | H8: =IF(A8="","",SUMIF('Düngung'!$B$6:$B$205,A8,'Düngung'!$J$6:$J$205)) | I8: =IF(OR(A8="",C8=""),"",E8*C8) | J8: =IF(OR(A8="",C8=""),"",G8*C8) | K8: =IF(A8="","",COUNTIF('Pflanzenschutz'!$C$6:$C$205,A8))
A9: =IF('Schläge'!A10="","",'Schläge'!A10) | B9: =IF(A9="","",'Schläge'!B10) | C9: =IF(A9="","",'Schläge'!D10) | D9: =IF(A9="","",'Schläge'!F10) | E9: =IF(A9="","",SUMIF('Düngung'!$B$6:$B$205,A9,'Düngung'!$G$6:$G$205)) | F9: =IF(A9="","",SUMIF('Düngung'!$B$6:$B$205,A9,'Düngung'!$H$6:$H$205)) | G9: =IF(A9="","",SUMIF('Düngung'!$B$6:$B$205,A9,'Düngung'!$I$6:$I$205)) | H9: =IF(A9="","",SUMIF('Düngung'!$B$6:$B$205,A9,'Düngung'!$J$6:$J$205)) | I9: =IF(OR(A9="",C9=""),"",E9*C9) | J9: =IF(OR(A9="",C9=""),"",G9*C9) | K9: =IF(A9="","",COUNTIF('Pflanzenschutz'!$C$6:$C$205,A9))
A10: =IF('Schläge'!A11="","",'Schläge'!A11) | B10: =IF(A10="","",'Schläge'!B11) | C10: =IF(A10="","",'Schläge'!D11) | D10: =IF(A10="","",'Schläge'!F11) | E10: =IF(A10="","",SUMIF('Düngung'!$B$6:$B$205,A10,'Düngung'!$G$6:$G$205)) | F10: =IF(A10="","",SUMIF('Düngung'!$B$6:$B$205,A10,'Düngung'!$H$6:$H$205)) | G10: =IF(A10="","",SUMIF('Düngung'!$B$6:$B$205,A10,'Düngung'!$I$6:$I$205)) | H10: =IF(A10="","",SUMIF('Düngung'!$B$6:$B$205,A10,'Düngung'!$J$6:$J$205)) | I10: =IF(OR(A10="",C10=""),"",E10*C10) | J10: =IF(OR(A10="",C10=""),"",G10*C10) | K10: =IF(A10="","",COUNTIF('Pflanzenschutz'!$C$6:$C$205,A10))
A11: =IF('Schläge'!A12="","",'Schläge'!A12) | B11: =IF(A11="","",'Schläge'!B12) | C11: =IF(A11="","",'Schläge'!D12) | D11: =IF(A11="","",'Schläge'!F12) | E11: =IF(A11="","",SUMIF('Düngung'!$B$6:$B$205,A11,'Düngung'!$G$6:$G$205)) | F11: =IF(A11="","",SUMIF('Düngung'!$B$6:$B$205,A11,'Düngung'!$H$6:$H$205)) | G11: =IF(A11="","",SUMIF('Düngung'!$B$6:$B$205,A11,'Düngung'!$I$6:$I$205)) | H11: =IF(A11="","",SUMIF('Düngung'!$B$6:$B$205,A11,'Düngung'!$J$6:$J$205)) | I11: =IF(OR(A11="",C11=""),"",E11*C11) | J11: =IF(OR(A11="",C11=""),"",G11*C11) | K11: =IF(A11="","",COUNTIF('Pflanzenschutz'!$C$6:$C$205,A11))
A12: =IF('Schläge'!A13="","",'Schläge'!A13) | B12: =IF(A12="","",'Schläge'!B13) | C12: =IF(A12="","",'Schläge'!D13) | D12: =IF(A12="","",'Schläge'!F13) | E12: =IF(A12="","",SUMIF('Düngung'!$B$6:$B$205,A12,'Düngung'!$G$6:$G$205)) | F12: =IF(A12="","",SUMIF('Düngung'!$B$6:$B$205,A12,'Düngung'!$H$6:$H$205)) | G12: =IF(A12="","",SUMIF('Düngung'!$B$6:$B$205,A12,'Düngung'!$I$6:$I$205)) | H12: =IF(A12="","",SUMIF('Düngung'!$B$6:$B$205,A12,'Düngung'!$J$6:$J$205)) | I12: =IF(OR(A12="",C12=""),"",E12*C12) | J12: =IF(OR(A12="",C12=""),"",G12*C12) | K12: =IF(A12="","",COUNTIF('Pflanzenschutz'!$C$6:$C$205,A12))
A13: =IF('Schläge'!A14="","",'Schläge'!A14) | B13: =IF(A13="","",'Schläge'!B14) | C13: =IF(A13="","",'Schläge'!D14) | D13: =IF(A13="","",'Schläge'!F14) | E13: =IF(A13="","",SUMIF('Düngung'!$B$6:$B$205,A13,'Düngung'!$G$6:$G$205)) | F13: =IF(A13="","",SUMIF('Düngung'!$B$6:$B$205,A13,'Düngung'!$H$6:$H$205)) | G13: =IF(A13="","",SUMIF('Düngung'!$B$6:$B$205,A13,'Düngung'!$I$6:$I$205)) | H13: =IF(A13="","",SUMIF('Düngung'!$B$6:$B$205,A13,'Düngung'!$J$6:$J$205)) | I13: =IF(OR(A13="",C13=""),"",E13*C13) | J13: =IF(OR(A13="",C13=""),"",G13*C13) | K13: =IF(A13="","",COUNTIF('Pflanzenschutz'!$C$6:$C$205,A13))
A14: =IF('Schläge'!A15="","",'Schläge'!A15) | B14: =IF(A14="","",'Schläge'!B15) | C14: =IF(A14="","",'Schläge'!D15) | D14: =IF(A14="","",'Schläge'!F15) | E14: =IF(A14="","",SUMIF('Düngung'!$B$6:$B$205,A14,'Düngung'!$G$6:$G$205)) | F14: =IF(A14="","",SUMIF('Düngung'!$B$6:$B$205,A14,'Düngung'!$H$6:$H$205)) | G14: =IF(A14="","",SUMIF('Düngung'!$B$6:$B$205,A14,'Düngung'!$I$6:$I$205)) | H14: =IF(A14="","",SUMIF('Düngung'!$B$6:$B$205,A14,'Düngung'!$J$6:$J$205)) | I14: =IF(OR(A14="",C14=""),"",E14*C14) | J14: =IF(OR(A14="",C14=""),"",G14*C14) | K14: =IF(A14="","",COUNTIF('Pflanzenschutz'!$C$6:$C$205,A14))
A15: =IF('Schläge'!A16="","",'Schläge'!A16) | B15: =IF(A15="","",'Schläge'!B16) | C15: =IF(A15="","",'Schläge'!D16) | D15: =IF(A15="","",'Schläge'!F16) | E15: =IF(A15="","",SUMIF('Düngung'!$B$6:$B$205,A15,'Düngung'!$G$6:$G$205)) | F15: =IF(A15="","",SUMIF('Düngung'!$B$6:$B$205,A15,'Düngung'!$H$6:$H$205)) | G15: =IF(A15="","",SUMIF('Düngung'!$B$6:$B$205,A15,'Düngung'!$I$6:$I$205)) | H15: =IF(A15="","",SUMIF('Düngung'!$B$6:$B$205,A15,'Düngung'!$J$6:$J$205)) | I15: =IF(OR(A15="",C15=""),"",E15*C15) | J15: =IF(OR(A15="",C15=""),"",G15*C15) | K15: =IF(A15="","",COUNTIF('Pflanzenschutz'!$C$6:$C$205,A15))
A16: =IF('Schläge'!A17="","",'Schläge'!A17) | B16: =IF(A16="","",'Schläge'!B17) | C16: =IF(A16="","",'Schläge'!D17) | D16: =IF(A16="","",'Schläge'!F17) | E16: =IF(A16="","",SUMIF('Düngung'!$B$6:$B$205,A16,'Düngung'!$G$6:$G$205)) | F16: =IF(A16="","",SUMIF('Düngung'!$B$6:$B$205,A16,'Düngung'!$H$6:$H$205)) | G16: =IF(A16="","",SUMIF('Düngung'!$B$6:$B$205,A16,'Düngung'!$I$6:$I$205)) | H16: =IF(A16="","",SUMIF('Düngung'!$B$6:$B$205,A16,'Düngung'!$J$6:$J$205)) | I16: =IF(OR(A16="",C16=""),"",E16*C16) | J16: =IF(OR(A16="",C16=""),"",G16*C16) | K16: =IF(A16="","",COUNTIF('Pflanzenschutz'!$C$6:$C$205,A16))
... A204: =IF('Schläge'!A205="","",'Schläge'!A205) | B204: =IF(A204="","",'Schläge'!B205) | C204: =IF(A204="","",'Schläge'!D205) | D204: =IF(A204="","",'Schläge'!F205) | E204: =IF(A204="","",SUMIF('Düngung'!$B$6:$B$205,A204,'Düngung'!$G$6:$G$205)) | F204: =IF(A204="","",SUMIF('Düngung'!$B$6:$B$205,A204,'Düngung'!$H$6:$H$205)) | G204: =IF(A204="","",SUMIF('Düngung'!$B$6:$B$205,A204,'Düngung'!$I$6:$I$205)) | H204: =IF(A204="","",SUMIF('Düngung'!$B$6:$B$205,A204,'Düngung'!$J$6:$J$205)) | I204: =IF(OR(A204="",C204=""),"",E204*C204) | J204: =IF(OR(A204="",C204=""),"",G204*C204) | K204: =IF(A204="","",COUNTIF('Pflanzenschutz'!$C$6:$C$205,A204))
A205: Betrieb gesamt | C205: =SUM(C5:C204) | I205: =SUM(I5:I204) | J205: =SUM(J5:J204)

Sheet Schläge
A1: Schlagverzeichnis
A2: Ein Eintrag je Schlag und Jahr. Die Schlagnummer wird in allen anderen Blättern verwendet.
A3: Betrieb: | D3: Erntejahr:
A5: Schlag-Nr. | B5: Schlagname | C5: Feldblock / FLIK | D5: Fläche (ha) | E5: Nutzung | F5: Hauptkultur | G5: Sorte | H5: Aussaat | I5: Vorfrucht | J5: Zwischenfrucht | K5: Bodenart | L5: Bemerkung
A6: 1 | B6: Am Kirchweg | C6: DENWLI0512345 | D6: 4.35 | E6: Ackerland | F6: Winterweizen | G6: Asory | H6: 45944 | I6: Winterraps | K6: sL | L6: Beispiel – bitte überschreiben
A7: 2 | B7: Hofweide | C7: DENWLI0512346 | D7: 2.1 | E7: Grünland | F7: Dauergrünland | K7: L | L7: Beispiel – bitte überschreiben

Sheet Düngung
A1: Düngemaßnahmen
A2: Jede Düngung spätestens 2 Tage nach der Maßnahme eintragen (§ 10 DüV). Nährstoffe in kg je Hektar.
A3: Betrieb: | D3: Erntejahr:
A5: Datum | B5: Schlag-Nr. | C5: Düngemittel | D5: Art | E5: Menge je ha | F5: Einheit | G5: N gesamt (kg/ha) | H5: NH₄-N (kg/ha) | I5: P₂O₅ (kg/ha) | J5: K₂O (kg/ha) | K5: Fläche (ha) | L5: N gesamt Schlag (kg) | M5: Eingetragen am | N5: Bemerkung
A6: 46090 | B6: 1 | C6: Rindergülle | D6: organisch | E6: 20 | F6: m³ | G6: 80 | H6: 40 | I6: 30 | J6: 110 | K6: =IF(B6="","",IFERROR(VLOOKUP(B6,'Schläge'!$A$6:$D$205,4,FALSE),"")) | L6: =IF(OR(G6="",K6=""),"",G6*K6) | M6: 46091 | N6: Beispiel
A7: 46114 | B7: 1 | C7: KAS 27 % | D7: mineralisch | E7: 2 | F7: dt | G7: 54 | H7: 27 | I7: 0 | J7: 0 | K7: =IF(B7="","",IFERROR(VLOOKUP(B7,'Schläge'!$A$6:$D$205,4,FALSE),"")) | L7: =IF(OR(G7="",K7=""),"",G7*K7) | M7: 46114 | N7: Beispiel
K8: =IF(B8="","",IFERROR(VLOOKUP(B8,'Schläge'!$A$6:$D$205,4,FALSE),"")) | L8: =IF(OR(G8="",K8=""),"",G8*K8)
K9: =IF(B9="","",IFERROR(VLOOKUP(B9,'Schläge'!$A$6:$D$205,4,FALSE),"")) | L9: =IF(OR(G9="",K9=""),"",G9*K9)
K10: =IF(B10="","",IFERROR(VLOOKUP(B10,'Schläge'!$A$6:$D$205,4,FALSE),"")) | L10: =IF(OR(G10="",K10=""),"",G10*K10)
K11: =IF(B11="","",IFERROR(VLOOKUP(B11,'Schläge'!$A$6:$D$205,4,FALSE),"")) | L11: =IF(OR(G11="",K11=""),"",G11*K11)
K12: =IF(B12="","",IFERROR(VLOOKUP(B12,'Schläge'!$A$6:$D$205,4,FALSE),"")) | L12: =IF(OR(G12="",K12=""),"",G12*K12)
K13: =IF(B13="","",IFERROR(VLOOKUP(B13,'Schläge'!$A$6:$D$205,4,FALSE),"")) | L13: =IF(OR(G13="",K13=""),"",G13*K13)
K14: =IF(B14="","",IFERROR(VLOOKUP(B14,'Schläge'!$A$6:$D$205,4,FALSE),"")) | L14: =IF(OR(G14="",K14=""),"",G14*K14)
K15: =IF(B15="","",IFERROR(VLOOKUP(B15,'Schläge'!$A$6:$D$205,4,FALSE),"")) | L15: =IF(OR(G15="",K15=""),"",G15*K15)
K16: =IF(B16="","",IFERROR(VLOOKUP(B16,'Schläge'!$A$6:$D$205,4,FALSE),"")) | L16: =IF(OR(G16="",K16=""),"",G16*K16)
K17: =IF(B17="","",IFERROR(VLOOKUP(B17,'Schläge'!$A$6:$D$205,4,FALSE),"")) | L17: =IF(OR(G17="",K17=""),"",G17*K17)
K18: =IF(B18="","",IFERROR(VLOOKUP(B18,'Schläge'!$A$6:$D$205,4,FALSE),"")) | L18: =IF(OR(G18="",K18=""),"",G18*K18)
K19: =IF(B19="","",IFERROR(VLOOKUP(B19,'Schläge'!$A$6:$D$205,4,FALSE),"")) | L19: =IF(OR(G19="",K19=""),"",G19*K19)
... K205: =IF(B205="","",IFERROR(VLOOKUP(B205,'Schläge'!$A$6:$D$205,4,FALSE),"")) | L205: =IF(OR(G205="",K205=""),"",G205*K205)

Sheet Pflanzenschutz
A1: Pflanzenschutzmaßnahmen
A2: Mittel mit Zulassungsnummer, Aufwandmenge, behandelte Fläche und Anwender je Anwendung festhalten.
A3: Betrieb: | D3: Erntejahr:
A5: Datum | B5: Uhrzeit (Beginn) | C5: Schlag-Nr. | D5: Kultur | E5: BBCH | F5: Pflanzenschutzmittel | G5: Zulassungs-Nr. | H5: Aufwand je ha | I5: Einheit | J5: Behandelte Fläche (ha) | K5: Schaderreger / Grund | L5: Anwender | M5: Bemerkung
A6: 46132 | C6: 1 | D6: Winterweizen | E6: 32 | F6: Mittel XY | G6: 000000-00 | H6: 1 | I6: l | J6: 4.35 | K6: Septoria | L6: M. Mustermann | M6: Beispiel

Sheet Bodenbearbeitung & Ernte
A1: Bodenbearbeitung, Aussaat und Ernte
A2: Alle übrigen Arbeitsgänge je Schlag, bei der Ernte mit Ertrag.
A3: Betrieb: | D3: Erntejahr:
A5: Datum | B5: Schlag-Nr. | C5: Arbeitsgang | D5: Gerät / Maschine | E5: Ertrag (dt/ha) | F5: Feuchte (%) | G5: Bemerkung
A6: 46231 | B6: 1 | C6: Mähdrusch | D6: Mähdrescher | E6: 84.5 | F6: 14.2 | G6: Beispiel

Sheet Grünland
A1: Grünland: Schnitte, Weide, Nachsaat
A2: Für Grünlandschläge: jeder Schnitt, jeder Weidegang und jede Nachsaat.
A3: Betrieb: | D3: Erntejahr:
A5: Datum | B5: Schlag-Nr. | C5: Maßnahme | D5: Schnitt-Nr. | E5: Tierart | F5: Anzahl Tiere | G5: Weidetage | H5: Ertrag (dt TM/ha) | I5: Bemerkung
A6: 46154 | B6: 2 | C6: Schnitt | D6: 1 | H6: 32 | I6: Beispiel

Sheet Listen
A1: Nutzung | B1: Art | C1: Einheit | D1: Maßnahme
A2: Ackerland | B2: organisch | C2: m³ | D2: Schnitt
A3: Grünland | B3: mineralisch | C3: t | D3: Weide
A4: Dauerkultur | B4: organisch-mineralisch | C4: dt | D4: Mähweide
A5: Brache | C5: kg | D5: Nachsaat
C6: l | D6: Pflege
